BEGIN:VCALENDAR
VERSION:2.0
PRODID:-//Victoria Mansion - ECPv6.15.20//NONSGML v1.0//EN
CALSCALE:GREGORIAN
METHOD:PUBLISH
X-ORIGINAL-URL:https://victoriamansion.org
X-WR-CALDESC:Events for Victoria Mansion
REFRESH-INTERVAL;VALUE=DURATION:PT1H
X-Robots-Tag:noindex
X-PUBLISHED-TTL:PT1H
BEGIN:VTIMEZONE
TZID:America/New_York
BEGIN:DAYLIGHT
TZOFFSETFROM:-0500
TZOFFSETTO:-0400
TZNAME:EDT
DTSTART:20230312T070000
END:DAYLIGHT
BEGIN:STANDARD
TZOFFSETFROM:-0400
TZOFFSETTO:-0500
TZNAME:EST
DTSTART:20231105T060000
END:STANDARD
BEGIN:DAYLIGHT
TZOFFSETFROM:-0500
TZOFFSETTO:-0400
TZNAME:EDT
DTSTART:20240310T070000
END:DAYLIGHT
BEGIN:STANDARD
TZOFFSETFROM:-0400
TZOFFSETTO:-0500
TZNAME:EST
DTSTART:20241103T060000
END:STANDARD
BEGIN:DAYLIGHT
TZOFFSETFROM:-0500
TZOFFSETTO:-0400
TZNAME:EDT
DTSTART:20250309T070000
END:DAYLIGHT
BEGIN:STANDARD
TZOFFSETFROM:-0400
TZOFFSETTO:-0500
TZNAME:EST
DTSTART:20251102T060000
END:STANDARD
END:VTIMEZONE
BEGIN:VEVENT
DTSTART;TZID=America/New_York:20241208T171500
DTEND;TZID=America/New_York:20241215T191500
DTSTAMP:20260419T111349
CREATED:20240508T134903Z
LAST-MODIFIED:20250429T180458Z
UID:10000012-1733678100-1734290100@victoriamansion.org
SUMMARY:Night of the Nutcracker with Portland Ballet **SOLD OUT!**
DESCRIPTION:Ballerinas from Portland Ballet return to Victoria Mansion’s Stair Hall this December to perform scenes from A Victorian Nutcracker. This production of the Nutcracker is unlike any other\, featuring figures from Portland’s history in the opening scene\, and with sets and costumes based on Victoria Mansion’s interiors. \nThis family-friendly event is fun for kids of all ages. After the performance\, walk through the house\, see the decorations\, and meet the ballerinas! \nPerformances on Sundays\, December 8th and 15th at 5:15 and 6:15pm. \n 
URL:https://victoriamansion.org/event/night-of-the-nutcracker-2024/
LOCATION:Visitation in Full Swing at the Mansion
CATEGORIES:Performance,Youth & Family
ATTACH;FMTTYPE=image/jpeg:https://victoriamansion.org/wp-content/uploads/2024/05/Nutcracker-2023-14-e1715176084773.jpg
END:VEVENT
END:VCALENDAR