BEGIN:VCALENDAR
VERSION:2.0
PRODID:-//Victoria Mansion - ECPv6.15.20//NONSGML v1.0//EN
CALSCALE:GREGORIAN
METHOD:PUBLISH
X-WR-CALNAME:Victoria Mansion
X-ORIGINAL-URL:https://victoriamansion.org
X-WR-CALDESC:Events for Victoria Mansion
REFRESH-INTERVAL;VALUE=DURATION:PT1H
X-Robots-Tag:noindex
X-PUBLISHED-TTL:PT1H
BEGIN:VTIMEZONE
TZID:America/New_York
BEGIN:DAYLIGHT
TZOFFSETFROM:-0500
TZOFFSETTO:-0400
TZNAME:EDT
DTSTART:20230312T070000
END:DAYLIGHT
BEGIN:STANDARD
TZOFFSETFROM:-0400
TZOFFSETTO:-0500
TZNAME:EST
DTSTART:20231105T060000
END:STANDARD
BEGIN:DAYLIGHT
TZOFFSETFROM:-0500
TZOFFSETTO:-0400
TZNAME:EDT
DTSTART:20240310T070000
END:DAYLIGHT
BEGIN:STANDARD
TZOFFSETFROM:-0400
TZOFFSETTO:-0500
TZNAME:EST
DTSTART:20241103T060000
END:STANDARD
BEGIN:DAYLIGHT
TZOFFSETFROM:-0500
TZOFFSETTO:-0400
TZNAME:EDT
DTSTART:20250309T070000
END:DAYLIGHT
BEGIN:STANDARD
TZOFFSETFROM:-0400
TZOFFSETTO:-0500
TZNAME:EST
DTSTART:20251102T060000
END:STANDARD
END:VTIMEZONE
BEGIN:VEVENT
DTSTART;TZID=America/New_York:20240712T173000
DTEND;TZID=America/New_York:20240712T203000
DTSTAMP:20260421T115517
CREATED:20240319T194819Z
LAST-MODIFIED:20241217T013056Z
UID:10000003-1720805400-1720816200@victoriamansion.org
SUMMARY:Brownstone Brews & Bites\, Brought to You by Allagash
DESCRIPTION:Celebrating our 18-year partnership with Allagash Brewing\, our summer fundraiser Brownstone Brews & Bites returns to the Mansion lawn this July! \nFeaturing Allagash beer\, Cellardoor wine\, Green Bee soda\, music by the Pete Kilpatrick Band\, catering from Cheese Louise and goodies from Sullivan House Bakery\, this annual fundraiser helps support our ongoing historic preservation projects\, with a special eye on preserving the Mansion’s iconic brownstone exterior. Additional partners will be announced soon! Special thanks to event sponsor Bird & Co. \nFood\, beverage\, live music\, and first-floor Mansion tours are all included with the price of your ticket. All attendees also receive a free Allagash chalice to use during the event and take home at the end of the evening. \nPlease fill out the form below for tickets. Questions about the event? Please call (207) 772-4841 ext.111 or ext.101.
URL:https://victoriamansion.org/event/brownstone-brews-bites-2024/
LOCATION:Visitation in Full Swing at the Mansion
CATEGORIES:Community Event,Fundraiser
ATTACH;FMTTYPE=:
END:VEVENT
BEGIN:VEVENT
DTSTART;TZID=America/New_York:20240724T163000
DTEND;TZID=America/New_York:20240724T183000
DTSTAMP:20260421T115517
CREATED:20240517T164257Z
LAST-MODIFIED:20250429T175843Z
UID:10000016-1721838600-1721845800@victoriamansion.org
SUMMARY:Ruffi Stuffie Sleepover
DESCRIPTION:Our newest program for young visitors\, their caregivers\, and their stuffed animals returns this summer! \nWould your child’s stuffie like to explore the Mansion with host Ruffi the (stuffie) Museum Cat? Bring your stuffed animal friend from home to join us for a story time and a look around the Mansion on July 24th at 4:30pm. \nThen\, leave your stuffed animal with Ruffi and our museum staff for a Mansion stuffie sleepover! Photos of all their fun activities will be shared with participants when they pick up their stuffies in the morning on July 25th. \nTickets are $5 per child & stuffed animal with accompanying adult. Tickets are limited due to capacity. Check out the calendar below to reserve tickets!
URL:https://victoriamansion.org/event/ruffi-stuffie-sleepover-july-2024/
LOCATION:Visitation in Full Swing at the Mansion
CATEGORIES:Youth & Family
ATTACH;FMTTYPE=image/jpeg:https://victoriamansion.org/wp-content/uploads/2024/05/19IMG_0545.jpg
END:VEVENT
END:VCALENDAR