BEGIN:VCALENDAR
VERSION:2.0
PRODID:-//Victoria Mansion - ECPv6.15.20//NONSGML v1.0//EN
CALSCALE:GREGORIAN
METHOD:PUBLISH
X-ORIGINAL-URL:https://victoriamansion.org
X-WR-CALDESC:Events for Victoria Mansion
REFRESH-INTERVAL;VALUE=DURATION:PT1H
X-Robots-Tag:noindex
X-PUBLISHED-TTL:PT1H
BEGIN:VTIMEZONE
TZID:America/New_York
BEGIN:DAYLIGHT
TZOFFSETFROM:-0500
TZOFFSETTO:-0400
TZNAME:EDT
DTSTART:20250309T070000
END:DAYLIGHT
BEGIN:STANDARD
TZOFFSETFROM:-0400
TZOFFSETTO:-0500
TZNAME:EST
DTSTART:20251102T060000
END:STANDARD
BEGIN:DAYLIGHT
TZOFFSETFROM:-0500
TZOFFSETTO:-0400
TZNAME:EDT
DTSTART:20260308T070000
END:DAYLIGHT
BEGIN:STANDARD
TZOFFSETFROM:-0400
TZOFFSETTO:-0500
TZNAME:EST
DTSTART:20261101T060000
END:STANDARD
BEGIN:DAYLIGHT
TZOFFSETFROM:-0500
TZOFFSETTO:-0400
TZNAME:EDT
DTSTART:20270314T070000
END:DAYLIGHT
BEGIN:STANDARD
TZOFFSETFROM:-0400
TZOFFSETTO:-0500
TZNAME:EST
DTSTART:20271107T060000
END:STANDARD
END:VTIMEZONE
BEGIN:VEVENT
DTSTART;TZID=America/New_York:20260704T100000
DTEND;TZID=America/New_York:20260704T160000
DTSTAMP:20260421T054447
CREATED:20250523T181051Z
LAST-MODIFIED:20260327T142432Z
UID:10002631-1783159200-1783180800@victoriamansion.org
SUMMARY:Closed for the Fourth of July
DESCRIPTION:We will be closed on Friday\, July 4\, 2026 for the holiday. We hope you will visit on another day- we are open seven days a week\, with the exception of Memorial Day\, July 4th\, and Labor Day.
URL:https://victoriamansion.org/event/closed-for-the-fourth-of-july/
CATEGORIES:Tour
ATTACH;FMTTYPE=image/png:https://victoriamansion.org/wp-content/uploads/2025/04/vm-2.png
END:VEVENT
BEGIN:VEVENT
DTSTART;TZID=America/New_York:20260907T100000
DTEND;TZID=America/New_York:20260907T160000
DTSTAMP:20260421T054448
CREATED:20250523T181317Z
LAST-MODIFIED:20260327T142309Z
UID:10002632-1788775200-1788796800@victoriamansion.org
SUMMARY:Closed for Labor Day
DESCRIPTION:We will be closed on Monday\, September 7\, 2026 in honor of Labor Day. We hope you will visit on another day- we are open seven days a week\, with the exception of Memorial Day\, July 4th\, and Labor Day.
URL:https://victoriamansion.org/event/closed-for-labor-day/
CATEGORIES:Tour
ATTACH;FMTTYPE=image/png:https://victoriamansion.org/wp-content/uploads/2025/04/vm-2.png
END:VEVENT
END:VCALENDAR