BEGIN:VCALENDAR
VERSION:2.0
PRODID:-//Victoria Mansion - ECPv6.15.20//NONSGML v1.0//EN
CALSCALE:GREGORIAN
METHOD:PUBLISH
X-ORIGINAL-URL:https://victoriamansion.org
X-WR-CALDESC:Events for Victoria Mansion
REFRESH-INTERVAL;VALUE=DURATION:PT1H
X-Robots-Tag:noindex
X-PUBLISHED-TTL:PT1H
BEGIN:VTIMEZONE
TZID:America/New_York
BEGIN:DAYLIGHT
TZOFFSETFROM:-0500
TZOFFSETTO:-0400
TZNAME:EDT
DTSTART:20240310T070000
END:DAYLIGHT
BEGIN:STANDARD
TZOFFSETFROM:-0400
TZOFFSETTO:-0500
TZNAME:EST
DTSTART:20241103T060000
END:STANDARD
BEGIN:DAYLIGHT
TZOFFSETFROM:-0500
TZOFFSETTO:-0400
TZNAME:EDT
DTSTART:20250309T070000
END:DAYLIGHT
BEGIN:STANDARD
TZOFFSETFROM:-0400
TZOFFSETTO:-0500
TZNAME:EST
DTSTART:20251102T060000
END:STANDARD
BEGIN:DAYLIGHT
TZOFFSETFROM:-0500
TZOFFSETTO:-0400
TZNAME:EDT
DTSTART:20260308T070000
END:DAYLIGHT
BEGIN:STANDARD
TZOFFSETFROM:-0400
TZOFFSETTO:-0500
TZNAME:EST
DTSTART:20261101T060000
END:STANDARD
END:VTIMEZONE
BEGIN:VEVENT
DTSTART;TZID=America/New_York:20250918T170000
DTEND;TZID=America/New_York:20250918T190000
DTSTAMP:20260421T042237
CREATED:20250610T195746Z
LAST-MODIFIED:20250902T191333Z
UID:10002634-1758214800-1758222000@victoriamansion.org
SUMMARY:Member Event: Basement to Tower Tour
DESCRIPTION:Save the date!\nVictoria Mansion Members are invited to a rare opportunity to tour areas of the house not usually on public view. Join Mansion staff to tour the basement\, once a vital center of operations for domestic staff\, the third floor\, today home to collections storage and conservation initiatives\, and small group access to the tower. Light refreshments will be served for guests at this event. \nDue to limited capacity in the featured spaces\, RSVPs are required. Members – keep an eye on your email inboxes for RSVP details. Want to join as a Member\, or need to renew? Visit our Membership page or give us a call at (207) 772-4841 ext.101. \n 
URL:https://victoriamansion.org/event/member-event-basement-to-tower-tour/
LOCATION:Victoria Mansion\, 109 Danforth Street\, Portland\, ME\, 04101\, United States
CATEGORIES:Member Event
ATTACH;FMTTYPE=image/jpeg:https://victoriamansion.org/wp-content/uploads/2020/02/exterior-with-sky-e1582212041832.jpg
ORGANIZER;CN="Victoria Mansion":MAILTO:info@victoriamansion.org
END:VEVENT
END:VCALENDAR