BEGIN:VCALENDAR
VERSION:2.0
PRODID:-//Victoria Mansion - ECPv6.15.20//NONSGML v1.0//EN
CALSCALE:GREGORIAN
METHOD:PUBLISH
X-WR-CALNAME:Victoria Mansion
X-ORIGINAL-URL:https://victoriamansion.org
X-WR-CALDESC:Events for Victoria Mansion
REFRESH-INTERVAL;VALUE=DURATION:PT1H
X-Robots-Tag:noindex
X-PUBLISHED-TTL:PT1H
BEGIN:VTIMEZONE
TZID:America/New_York
BEGIN:DAYLIGHT
TZOFFSETFROM:-0500
TZOFFSETTO:-0400
TZNAME:EDT
DTSTART:20230312T070000
END:DAYLIGHT
BEGIN:STANDARD
TZOFFSETFROM:-0400
TZOFFSETTO:-0500
TZNAME:EST
DTSTART:20231105T060000
END:STANDARD
BEGIN:DAYLIGHT
TZOFFSETFROM:-0500
TZOFFSETTO:-0400
TZNAME:EDT
DTSTART:20240310T070000
END:DAYLIGHT
BEGIN:STANDARD
TZOFFSETFROM:-0400
TZOFFSETTO:-0500
TZNAME:EST
DTSTART:20241103T060000
END:STANDARD
BEGIN:DAYLIGHT
TZOFFSETFROM:-0500
TZOFFSETTO:-0400
TZNAME:EDT
DTSTART:20250309T070000
END:DAYLIGHT
BEGIN:STANDARD
TZOFFSETFROM:-0400
TZOFFSETTO:-0500
TZNAME:EST
DTSTART:20251102T060000
END:STANDARD
END:VTIMEZONE
BEGIN:VEVENT
DTSTART;TZID=America/New_York:20240606T170000
DTEND;TZID=America/New_York:20240606T190000
DTSTAMP:20260422T065248
CREATED:20240423T145214Z
LAST-MODIFIED:20250418T173112Z
UID:10000010-1717693200-1717700400@victoriamansion.org
SUMMARY:Member Event: Backstairs Lives Tour
DESCRIPTION:Save the date!\nTours at Victoria Mansion have always included the Morses and the Libbys\, but there was another group who also lived here – their domestic servants. For many years\, we knew only minimal information about them. Recently\, however\, research through the Backstairs Lives Initiative has led to some interesting discoveries about the people who worked for these two families. \nMembers are invited to join us for a special opportunity to hear about the Mansion as a workplace\, not just a home. Who were the people who worked here? Where did they come from? Where did they work and where did they live? This tour will include spaces not usually on public view. \nLight refreshments will be served for guests at this event. Due to limited capacity in the featured spaces\, RSVPs are required. Members – keep an eye on your email inboxes for RSVP details. \nWant to join as a Member\, or need to renew? Visit our Membership page or give us a call at (207) 772-4841 ext.111. \nPictured in header image: Nora Steed; Hannah Shine (cook for Libby family); Katie Steed (maid for Libby family)\, ca.1913.
URL:https://victoriamansion.org/event/members-backstairs-lives-tour-2024/
LOCATION:Visitation in Full Swing at the Mansion
CATEGORIES:Member Event,Tour
ATTACH;FMTTYPE=:
END:VEVENT
END:VCALENDAR