BEGIN:VCALENDAR
VERSION:2.0
PRODID:-//Victoria Mansion - ECPv6.15.20//NONSGML v1.0//EN
CALSCALE:GREGORIAN
METHOD:PUBLISH
X-WR-CALNAME:Victoria Mansion
X-ORIGINAL-URL:https://victoriamansion.org
X-WR-CALDESC:Events for Victoria Mansion
REFRESH-INTERVAL;VALUE=DURATION:PT1H
X-Robots-Tag:noindex
X-PUBLISHED-TTL:PT1H
BEGIN:VTIMEZONE
TZID:America/New_York
BEGIN:DAYLIGHT
TZOFFSETFROM:-0500
TZOFFSETTO:-0400
TZNAME:EDT
DTSTART:20240310T070000
END:DAYLIGHT
BEGIN:STANDARD
TZOFFSETFROM:-0400
TZOFFSETTO:-0500
TZNAME:EST
DTSTART:20241103T060000
END:STANDARD
BEGIN:DAYLIGHT
TZOFFSETFROM:-0500
TZOFFSETTO:-0400
TZNAME:EDT
DTSTART:20250309T070000
END:DAYLIGHT
BEGIN:STANDARD
TZOFFSETFROM:-0400
TZOFFSETTO:-0500
TZNAME:EST
DTSTART:20251102T060000
END:STANDARD
BEGIN:DAYLIGHT
TZOFFSETFROM:-0500
TZOFFSETTO:-0400
TZNAME:EDT
DTSTART:20260308T070000
END:DAYLIGHT
BEGIN:STANDARD
TZOFFSETFROM:-0400
TZOFFSETTO:-0500
TZNAME:EST
DTSTART:20261101T060000
END:STANDARD
END:VTIMEZONE
BEGIN:VEVENT
DTSTART;TZID=America/New_York:20251203T170000
DTEND;TZID=America/New_York:20251203T210000
DTSTAMP:20260422T095501
CREATED:20251104T153029Z
LAST-MODIFIED:20251104T163501Z
UID:10002669-1764781200-1764795600@victoriamansion.org
SUMMARY:The Nutcracker Gala
DESCRIPTION:Please join us for a holiday gathering to mark the opening of our 45th annual holiday season. \nThis year\, we are celebrating our longtime partnership with the Portland Ballet and their production of A Victorian Nutcracker\, with its backdrop and costumes inspired by the Mansion. Come see how our holiday designers have interpreted this beloved holiday tradition—with a Maine twist! \nWednesday\, December 3\, 2025\nAt 5 p.m. at Victoria Mansion\n109 Danforth Street for a champagne toast set against the colorful backdrop of the Mansion in all of its holiday finery. You’ll also enjoy holiday musical selections by Goldenwood Ensembles. \nFrom 6:30 – 9 p.m. at the Cumberland Club\nGather at the Cumberland Club\, 116 High St. in Portland to feast\, sip\, and celebrate the magic of the season. Heavy hors d’oeuvres and drinks will be available. \nProceeds from this festive\, social evening support the Mansion’s mission to preserve this nineteenth-century treasure and share it with visitors from all over the world.
URL:https://victoriamansion.org/event/the-nutcracker-gala/
LOCATION:Victoria Mansion\, 109 Danforth Street\, Portland\, ME\, 04101\, United States
CATEGORIES:Community Event,Fundraiser
ATTACH;FMTTYPE=application/pdf:https://victoriamansion.org/wp-content/uploads/2025/11/2025_Gala-socials-image-1.pdf
ORGANIZER;CN="Victoria Mansion":MAILTO:info@victoriamansion.org
END:VEVENT
END:VCALENDAR