BEGIN:VCALENDAR
VERSION:2.0
PRODID:-//Victoria Mansion - ECPv6.15.20//NONSGML v1.0//EN
CALSCALE:GREGORIAN
METHOD:PUBLISH
X-ORIGINAL-URL:https://victoriamansion.org
X-WR-CALDESC:Events for Victoria Mansion
REFRESH-INTERVAL;VALUE=DURATION:PT1H
X-Robots-Tag:noindex
X-PUBLISHED-TTL:PT1H
BEGIN:VTIMEZONE
TZID:America/New_York
BEGIN:DAYLIGHT
TZOFFSETFROM:-0500
TZOFFSETTO:-0400
TZNAME:EDT
DTSTART:20240310T070000
END:DAYLIGHT
BEGIN:STANDARD
TZOFFSETFROM:-0400
TZOFFSETTO:-0500
TZNAME:EST
DTSTART:20241103T060000
END:STANDARD
BEGIN:DAYLIGHT
TZOFFSETFROM:-0500
TZOFFSETTO:-0400
TZNAME:EDT
DTSTART:20250309T070000
END:DAYLIGHT
BEGIN:STANDARD
TZOFFSETFROM:-0400
TZOFFSETTO:-0500
TZNAME:EST
DTSTART:20251102T060000
END:STANDARD
BEGIN:DAYLIGHT
TZOFFSETFROM:-0500
TZOFFSETTO:-0400
TZNAME:EDT
DTSTART:20260308T070000
END:DAYLIGHT
BEGIN:STANDARD
TZOFFSETFROM:-0400
TZOFFSETTO:-0500
TZNAME:EST
DTSTART:20261101T060000
END:STANDARD
END:VTIMEZONE
BEGIN:VEVENT
DTSTART;TZID=America/New_York:20250518T110000
DTEND;TZID=America/New_York:20250518T140000
DTSTAMP:20260422T210720
CREATED:20250409T203213Z
LAST-MODIFIED:20250517T173407Z
UID:10000024-1747566000-1747576800@victoriamansion.org
SUMMARY:New Orleans Sunday Brunch
DESCRIPTION:Please save the date for a spirited Victoria mansion New Orleans Sunday brunch! Hurricanes\, Oysters Rockefeller\, gumbo\, pralines\, live jazz music\, and more! \nWe are going back to Victoria Mansion’s roots\, New Orleans\, to share with you the exciting next chapter of this National Historic Landmark. \nWe hope you will join us at the Portland Country Club on May 18th. \nTickets are selling fast\, and online sales will close May 9.
URL:https://victoriamansion.org/event/new-orleans-sunday-brunch/
LOCATION:Portland Country Club\, 11 Foreside Road\, Falmouth\, ME\, 04105\, United States
CATEGORIES:Fundraiser
ATTACH;FMTTYPE=image/jpeg:https://victoriamansion.org/wp-content/uploads/2025/05/VM-Invite-Web-Image-7-scaled.jpg
END:VEVENT
END:VCALENDAR